BEGIN:VCALENDAR
VERSION:2.0
PRODID:-//NIHR Oxford Health Clinical Research Facility - ECPv6.15.13//NONSGML v1.0//EN
CALSCALE:GREGORIAN
METHOD:PUBLISH
X-WR-CALNAME:NIHR Oxford Health Clinical Research Facility
X-ORIGINAL-URL:https://oxfordhealthcrf.nihr.ac.uk
X-WR-CALDESC:Events for NIHR Oxford Health Clinical Research Facility
REFRESH-INTERVAL;VALUE=DURATION:PT1H
X-Robots-Tag:noindex
X-PUBLISHED-TTL:PT1H
BEGIN:VTIMEZONE
TZID:Europe/London
BEGIN:DAYLIGHT
TZOFFSETFROM:+0000
TZOFFSETTO:+0100
TZNAME:BST
DTSTART:20250330T010000
END:DAYLIGHT
BEGIN:STANDARD
TZOFFSETFROM:+0100
TZOFFSETTO:+0000
TZNAME:GMT
DTSTART:20251026T010000
END:STANDARD
BEGIN:DAYLIGHT
TZOFFSETFROM:+0000
TZOFFSETTO:+0100
TZNAME:BST
DTSTART:20260329T010000
END:DAYLIGHT
BEGIN:STANDARD
TZOFFSETFROM:+0100
TZOFFSETTO:+0000
TZNAME:GMT
DTSTART:20261025T010000
END:STANDARD
BEGIN:DAYLIGHT
TZOFFSETFROM:+0000
TZOFFSETTO:+0100
TZNAME:BST
DTSTART:20270328T010000
END:DAYLIGHT
BEGIN:STANDARD
TZOFFSETFROM:+0100
TZOFFSETTO:+0000
TZNAME:GMT
DTSTART:20271031T010000
END:STANDARD
END:VTIMEZONE
BEGIN:VEVENT
DTSTART;VALUE=DATE:20260421
DTEND;VALUE=DATE:20260422
DTSTAMP:20260423T134037
CREATED:20260227T101145Z
LAST-MODIFIED:20260227T101145Z
UID:1339-1776729600-1776815999@oxfordhealthcrf.nihr.ac.uk
SUMMARY:Regulatory Inspection Ready
DESCRIPTION:This course is aimed at those who deliver research in a healthcare setting either in a Sponsor team or as a Host\, and that maybe subject to regulatory inspection. Preparation for Inspection is critical but compliance driven from preparation rather than from quality systems can lead to poor practice and Inspection findings. \nLast minute changes just prior to a visit can be very unhelpful and in some cases misleading and so this course will help delegates understand how to become inspection-ready for any inspection. Delegates will learn strategies that build confidence for an inspection from any of the regulators for example the MHRA\, Human Tissue Authority or Human Embryology & Fertilisation Authority. \nMore information and registration. 
URL:https://oxfordhealthcrf.nihr.ac.uk/event/regulatory-inspection-ready-2/
LOCATION:Online
ATTACH;FMTTYPE=image/png:https://oxfordhealthcrf.nihr.ac.uk/wp-content/uploads/2026/02/regulatory.png
END:VEVENT
END:VCALENDAR